{"text_format":"1","workbook":"xlsx","n_sheets":2,"sheets":["spectra of Plexi","normalized"],"not_rendered":{"charts":2,"images":0,"macros":0,"external_links":0,"defined_names":0,"comments":0,"pivot_tables":0},"unopened":[],"bounds":{"document_bytes":16777216,"sheet_cells":100000,"rows_first":2000,"rows_last":500,"rows_between":2000,"halvings":0,"cell_chars":16384,"cell_head_chars":4096},"cells_cut":0,"cells_raw":0,"read":"whole","date_system":"1900"}

{"sheet":"spectra of Plexi","index":0,"n_rows":31,"n_cols":9,"rows_kept":31,"cut":false,"hidden":false,"merged":[]}
["Emission [nm]","yellow 405 ex","yellow 440 ex","yellow 488 ex","yellow 514 ex","green 405","green 440","green 488","green 514"]
[432,0.1,0,0,0,0.2,0,0,0]
[441,0.3,0,0,0,0.5,0,0,0]
[450,2.5,0.1,0.1,0,3.9,0.1,0.1,0]
[459,13.4,2.7,0.7,0,19.899999999999999,3,0.7,0.1]
[467,47.6,31.8,4.9000000000000004,0.4,67.8,36.200000000000003,5.0999999999999996,2]
[476,104.9,90.6,12.6,1,123.2,89.4,11.3,8.1999999999999993]
[485,130,122.9,3,3.6,148.19999999999999,124.8,2.9,29.1]
[494,153.9,148.5,34.6,10.4,182.8,167.2,36.200000000000003,88.5]
[503,185.2,175.2,177.8,16.100000000000001,205.7,191.3,189.9,154.80000000000001]
[512,183.8,180.7,168,2.6,199.4,193.3,183.7,25.6]
[521,151.30000000000001,157.30000000000001,160.19999999999999,6.7,176.5,183,172.8,32.799999999999997]
[530,116.8,126.7,162.80000000000001,52.9,148.1,164.8,170.7,204.3]
[539,97.9,106.8,159.80000000000001,99.7,123,142.30000000000001,162.4,224.1]
[548,85.3,93.3,144.19999999999999,156.9,100.9,119.3,137,224.8]
[556,64,72.400000000000006,115.5,188.7,73.900000000000006,90.8,100.5,192.3]
[565,46,53.5,94.3,190.3,54.9,70.099999999999994,76.7,151.30000000000001]
[574,34.200000000000003,41.6,80.900000000000006,181.1,42.6,57,63.8,121]
[583,25.5,31.2,66.5,158.69999999999999,31.5,43.2,50.9,92.6]
[592,19.3,23.9,54.2,146.30000000000001,23.3,32.700000000000003,39.1,74.7]
[601,14.9,18.7,44.3,136.30000000000001,17.5,24.7,29.5,60.1]
[610,10.6,13.7,34.6,121.4,12.7,18.3,21.2,45.6]
[619,7.5,9.6,26.4,98.6,8.9,13,15.3,32.4]
[628,5.0999999999999996,6.8,20,77.8,6.3,9.4,11.2,23.3]
[637,3.7,5,15.2,60.7,4.7,7,8.5,17.100000000000001]
[646,2.4,3.2,11,45.8,2.9,4.5,5.7,11.9]
[654,1.6,2.2000000000000002,8.3000000000000007,36.4,1.9,3,3.9,8.6]
[663,1.2,1.7,6.6,30.4,1.5,2.2999999999999998,2.9,6.7]
[672,0.8,1.1000000000000001,4.8,24.3,0.9,1.3,1.7,4.5999999999999996]
[681,0.6,0.8,3.5,18.600000000000001,0.7,1,1.2,3.3]
[690,0.4,0.5,2.2999999999999998,12.4,0.4,0.6,0.8,2]

{"sheet":"normalized","index":1,"n_rows":31,"n_cols":9,"rows_kept":31,"cut":false,"hidden":false,"merged":[]}
["Emission [nm]","yellow 405 ex","yellow 440 ex","yellow 488 ex","yellow 514 ex","green 405","green 440","green 488 ex","green 514"]
[432,{"$f":"'spectra of Plexi'!B2/MAX('spectra of Plexi'!B:B)","v":5.3995680345572358E-4},{"$f":"'spectra of Plexi'!C2/MAX('spectra of Plexi'!C:C)","v":0},{"$f":"'spectra of Plexi'!D2/MAX('spectra of Plexi'!D:D)","v":0},{"$f":"'spectra of Plexi'!E2/MAX('spectra of Plexi'!E:E)","v":0},{"$f":"'spectra of Plexi'!F2/MAX('spectra of Plexi'!F:F)","v":9.7228974234321835E-4},{"$f":"'spectra of Plexi'!G2/MAX('spectra of Plexi'!G:G)","v":0},{"$f":"'spectra of Plexi'!H2/MAX('spectra of Plexi'!H:H)","v":0},{"$f":"'spectra of Plexi'!I2/MAX('spectra of Plexi'!I:I)","v":0}]
[441,{"$f":"'spectra of Plexi'!B3/MAX('spectra of Plexi'!B:B)","v":1.6198704103671706E-3},{"$f":"'spectra of Plexi'!C3/MAX('spectra of Plexi'!C:C)","v":0},{"$f":"'spectra of Plexi'!D3/MAX('spectra of Plexi'!D:D)","v":0},{"$f":"'spectra of Plexi'!E3/MAX('spectra of Plexi'!E:E)","v":0},{"$f":"'spectra of Plexi'!F3/MAX('spectra of Plexi'!F:F)","v":2.4307243558580457E-3},{"$f":"'spectra of Plexi'!G3/MAX('spectra of Plexi'!G:G)","v":0},{"$f":"'spectra of Plexi'!H3/MAX('spectra of Plexi'!H:H)","v":0},{"$f":"'spectra of Plexi'!I3/MAX('spectra of Plexi'!I:I)","v":0}]
[450,{"$f":"'spectra of Plexi'!B4/MAX('spectra of Plexi'!B:B)","v":1.349892008639309E-2},{"$f":"'spectra of Plexi'!C4/MAX('spectra of Plexi'!C:C)","v":5.534034311012729E-4},{"$f":"'spectra of Plexi'!D4/MAX('spectra of Plexi'!D:D)","v":5.6242969628796395E-4},{"$f":"'spectra of Plexi'!E4/MAX('spectra of Plexi'!E:E)","v":0},{"$f":"'spectra of Plexi'!F4/MAX('spectra of Plexi'!F:F)","v":1.8959649975692758E-2},{"$f":"'spectra of Plexi'!G4/MAX('spectra of Plexi'!G:G)","v":5.1733057423693739E-4},{"$f":"'spectra of Plexi'!H4/MAX('spectra of Plexi'!H:H)","v":5.2659294365455509E-4},{"$f":"'spectra of Plexi'!I4/MAX('spectra of Plexi'!I:I)","v":0}]
[459,{"$f":"'spectra of Plexi'!B5/MAX('spectra of Plexi'!B:B)","v":7.2354211663066964E-2},{"$f":"'spectra of Plexi'!C5/MAX('spectra of Plexi'!C:C)","v":1.4941892639734368E-2},{"$f":"'spectra of Plexi'!D5/MAX('spectra of Plexi'!D:D)","v":3.9370078740157471E-3},{"$f":"'spectra of Plexi'!E5/MAX('spectra of Plexi'!E:E)","v":0},{"$f":"'spectra of Plexi'!F5/MAX('spectra of Plexi'!F:F)","v":9.6742829363150221E-2},{"$f":"'spectra of Plexi'!G5/MAX('spectra of Plexi'!G:G)","v":1.5519917227108122E-2},{"$f":"'spectra of Plexi'!H5/MAX('spectra of Plexi'!H:H)","v":3.686150605581885E-3},{"$f":"'spectra of Plexi'!I5/MAX('spectra of Plexi'!I:I)","v":4.4483985765124553E-4}]
[467,{"$f":"'spectra of Plexi'!B6/MAX('spectra of Plexi'!B:B)","v":0.25701943844492442},{"$f":"'spectra of Plexi'!C6/MAX('spectra of Plexi'!C:C)","v":0.17598229109020477},{"$f":"'spectra of Plexi'!D6/MAX('spectra of Plexi'!D:D)","v":2.7559055118110236E-2},{"$f":"'spectra of Plexi'!E6/MAX('spectra of Plexi'!E:E)","v":2.1019442984760903E-3},{"$f":"'spectra of Plexi'!F6/MAX('spectra of Plexi'!F:F)","v":0.32960622265435102},{"$f":"'spectra of Plexi'!G6/MAX('spectra of Plexi'!G:G)","v":0.18727366787377134},{"$f":"'spectra of Plexi'!H6/MAX('spectra of Plexi'!H:H)","v":2.6856240126382304E-2},{"$f":"'spectra of Plexi'!I6/MAX('spectra of Plexi'!I:I)","v":8.8967971530249101E-3}]
[476,{"$f":"'spectra of Plexi'!B7/MAX('spectra of Plexi'!B:B)","v":0.56641468682505403},{"$f":"'spectra of Plexi'!C7/MAX('spectra of Plexi'!C:C)","v":0.50138350857775316},{"$f":"'spectra of Plexi'!D7/MAX('spectra of Plexi'!D:D)","v":7.0866141732283464E-2},{"$f":"'spectra of Plexi'!E7/MAX('spectra of Plexi'!E:E)","v":5.254860746190226E-3},{"$f":"'spectra of Plexi'!F7/MAX('spectra of Plexi'!F:F)","v":0.59893048128342252},{"$f":"'spectra of Plexi'!G7/MAX('spectra of Plexi'!G:G)","v":0.46249353336782206},{"$f":"'spectra of Plexi'!H7/MAX('spectra of Plexi'!H:H)","v":5.9505002632964724E-2},{"$f":"'spectra of Plexi'!I7/MAX('spectra of Plexi'!I:I)","v":3.6476868327402129E-2}]
[485,{"$f":"'spectra of Plexi'!B8/MAX('spectra of Plexi'!B:B)","v":0.70194384449244063},{"$f":"'spectra of Plexi'!C8/MAX('spectra of Plexi'!C:C)","v":0.68013281682346438},{"$f":"'spectra of Plexi'!D8/MAX('spectra of Plexi'!D:D)","v":1.6872890888638917E-2},{"$f":"'spectra of Plexi'!E8/MAX('spectra of Plexi'!E:E)","v":1.8917498686284812E-2},{"$f":"'spectra of Plexi'!F8/MAX('spectra of Plexi'!F:F)","v":0.72046669907632477},{"$f":"'spectra of Plexi'!G8/MAX('spectra of Plexi'!G:G)","v":0.6456285566476978},{"$f":"'spectra of Plexi'!H8/MAX('spectra of Plexi'!H:H)","v":1.5271195365982095E-2},{"$f":"'spectra of Plexi'!I8/MAX('spectra of Plexi'!I:I)","v":0.12944839857651247}]
[494,{"$f":"'spectra of Plexi'!B9/MAX('spectra of Plexi'!B:B)","v":0.83099352051835862},{"$f":"'spectra of Plexi'!C9/MAX('spectra of Plexi'!C:C)","v":0.82180409518539022},{"$f":"'spectra of Plexi'!D9/MAX('spectra of Plexi'!D:D)","v":0.19460067491563554},{"$f":"'spectra of Plexi'!E9/MAX('spectra of Plexi'!E:E)","v":5.4650551760378349E-2},{"$f":"'spectra of Plexi'!F9/MAX('spectra of Plexi'!F:F)","v":0.8886728245017016},{"$f":"'spectra of Plexi'!G9/MAX('spectra of Plexi'!G:G)","v":0.86497672012415927},{"$f":"'spectra of Plexi'!H9/MAX('spectra of Plexi'!H:H)","v":0.19062664560294892},{"$f":"'spectra of Plexi'!I9/MAX('spectra of Plexi'!I:I)","v":0.39368327402135228}]
[503,{"$f":"'spectra of Plexi'!B10/MAX('spectra of Plexi'!B:B)","v":1},{"$f":"'spectra of Plexi'!C10/MAX('spectra of Plexi'!C:C)","v":0.96956281128943},{"$f":"'spectra of Plexi'!D10/MAX('spectra of Plexi'!D:D)","v":1},{"$f":"'spectra of Plexi'!E10/MAX('spectra of Plexi'!E:E)","v":8.4603258013662641E-2},{"$f":"'spectra of Plexi'!F10/MAX('spectra of Plexi'!F:F)","v":1},{"$f":"'spectra of Plexi'!G10/MAX('spectra of Plexi'!G:G)","v":0.9896533885152613},{"$f":"'spectra of Plexi'!H10/MAX('spectra of Plexi'!H:H)","v":1},{"$f":"'spectra of Plexi'!I10/MAX('spectra of Plexi'!I:I)","v":0.68861209964412817}]
[512,{"$f":"'spectra of Plexi'!B11/MAX('spectra of Plexi'!B:B)","v":0.99244060475161999},{"$f":"'spectra of Plexi'!C11/MAX('spectra of Plexi'!C:C)","v":1},{"$f":"'spectra of Plexi'!D11/MAX('spectra of Plexi'!D:D)","v":0.94488188976377951},{"$f":"'spectra of Plexi'!E11/MAX('spectra of Plexi'!E:E)","v":1.3662637940094587E-2},{"$f":"'spectra of Plexi'!F11/MAX('spectra of Plexi'!F:F)","v":0.96937287311618869},{"$f":"'spectra of Plexi'!G11/MAX('spectra of Plexi'!G:G)","v":1},{"$f":"'spectra of Plexi'!H11/MAX('spectra of Plexi'!H:H)","v":0.96735123749341745},{"$f":"'spectra of Plexi'!I11/MAX('spectra of Plexi'!I:I)","v":0.11387900355871886}]
[521,{"$f":"'spectra of Plexi'!B12/MAX('spectra of Plexi'!B:B)","v":0.81695464362850978},{"$f":"'spectra of Plexi'!C12/MAX('spectra of Plexi'!C:C)","v":0.8705035971223023},{"$f":"'spectra of Plexi'!D12/MAX('spectra of Plexi'!D:D)","v":0.90101237345331819},{"$f":"'spectra of Plexi'!E12/MAX('spectra of Plexi'!E:E)","v":3.5207566999474513E-2},{"$f":"'spectra of Plexi'!F12/MAX('spectra of Plexi'!F:F)","v":0.85804569761789018},{"$f":"'spectra of Plexi'!G12/MAX('spectra of Plexi'!G:G)","v":0.94671495085359536},{"$f":"'spectra of Plexi'!H12/MAX('spectra of Plexi'!H:H)","v":0.90995260663507116},{"$f":"'spectra of Plexi'!I12/MAX('spectra of Plexi'!I:I)","v":0.14590747330960852}]
[530,{"$f":"'spectra of Plexi'!B13/MAX('spectra of Plexi'!B:B)","v":0.63066954643628514},{"$f":"'spectra of Plexi'!C13/MAX('spectra of Plexi'!C:C)","v":0.70116214720531278},{"$f":"'spectra of Plexi'!D13/MAX('spectra of Plexi'!D:D)","v":0.91563554555680537},{"$f":"'spectra of Plexi'!E13/MAX('spectra of Plexi'!E:E)","v":0.27798213347346296},{"$f":"'spectra of Plexi'!F13/MAX('spectra of Plexi'!F:F)","v":0.71998055420515317},{"$f":"'spectra of Plexi'!G13/MAX('spectra of Plexi'!G:G)","v":0.8525607863424729},{"$f":"'spectra of Plexi'!H13/MAX('spectra of Plexi'!H:H)","v":0.89889415481832535},{"$f":"'spectra of Plexi'!I13/MAX('spectra of Plexi'!I:I)","v":0.90880782918149472}]
[539,{"$f":"'spectra of Plexi'!B14/MAX('spectra of Plexi'!B:B)","v":0.52861771058315343},{"$f":"'spectra of Plexi'!C14/MAX('spectra of Plexi'!C:C)","v":0.59103486441615938},{"$f":"'spectra of Plexi'!D14/MAX('spectra of Plexi'!D:D)","v":0.89876265466816652},{"$f":"'spectra of Plexi'!E14/MAX('spectra of Plexi'!E:E)","v":0.52390961639516553},{"$f":"'spectra of Plexi'!F14/MAX('spectra of Plexi'!F:F)","v":0.59795819154107932},{"$f":"'spectra of Plexi'!G14/MAX('spectra of Plexi'!G:G)","v":0.73616140713916189},{"$f":"'spectra of Plexi'!H14/MAX('spectra of Plexi'!H:H)","v":0.85518694049499733},{"$f":"'spectra of Plexi'!I14/MAX('spectra of Plexi'!I:I)","v":0.99688612099644125}]
[548,{"$f":"'spectra of Plexi'!B15/MAX('spectra of Plexi'!B:B)","v":0.4605831533477322},{"$f":"'spectra of Plexi'!C15/MAX('spectra of Plexi'!C:C)","v":0.5163254012174876},{"$f":"'spectra of Plexi'!D15/MAX('spectra of Plexi'!D:D)","v":0.81102362204724399},{"$f":"'spectra of Plexi'!E15/MAX('spectra of Plexi'!E:E)","v":0.82448765107724642},{"$f":"'spectra of Plexi'!F15/MAX('spectra of Plexi'!F:F)","v":0.49052017501215367},{"$f":"'spectra of Plexi'!G15/MAX('spectra of Plexi'!G:G)","v":0.61717537506466624},{"$f":"'spectra of Plexi'!H15/MAX('spectra of Plexi'!H:H)","v":0.72143233280674035},{"$f":"'spectra of Plexi'!I15/MAX('spectra of Plexi'!I:I)","v":1}]
[556,{"$f":"'spectra of Plexi'!B16/MAX('spectra of Plexi'!B:B)","v":0.3455723542116631},{"$f":"'spectra of Plexi'!C16/MAX('spectra of Plexi'!C:C)","v":0.40066408411732157},{"$f":"'spectra of Plexi'!D16/MAX('spectra of Plexi'!D:D)","v":0.64960629921259838},{"$f":"'spectra of Plexi'!E16/MAX('spectra of Plexi'!E:E)","v":0.99159222280609549},{"$f":"'spectra of Plexi'!F16/MAX('spectra of Plexi'!F:F)","v":0.35926105979581918},{"$f":"'spectra of Plexi'!G16/MAX('spectra of Plexi'!G:G)","v":0.46973616140713914},{"$f":"'spectra of Plexi'!H16/MAX('spectra of Plexi'!H:H)","v":0.52922590837282779},{"$f":"'spectra of Plexi'!I16/MAX('spectra of Plexi'!I:I)","v":0.8554270462633452}]
[565,{"$f":"'spectra of Plexi'!B17/MAX('spectra of Plexi'!B:B)","v":0.24838012958963285},{"$f":"'spectra of Plexi'!C17/MAX('spectra of Plexi'!C:C)","v":0.29607083563918096},{"$f":"'spectra of Plexi'!D17/MAX('spectra of Plexi'!D:D)","v":0.53037120359955003},{"$f":"'spectra of Plexi'!E17/MAX('spectra of Plexi'!E:E)","v":1},{"$f":"'spectra of Plexi'!F17/MAX('spectra of Plexi'!F:F)","v":0.26689353427321344},{"$f":"'spectra of Plexi'!G17/MAX('spectra of Plexi'!G:G)","v":0.36264873254009306},{"$f":"'spectra of Plexi'!H17/MAX('spectra of Plexi'!H:H)","v":0.40389678778304372},{"$f":"'spectra of Plexi'!I17/MAX('spectra of Plexi'!I:I)","v":0.67304270462633453}]
[574,{"$f":"'spectra of Plexi'!B18/MAX('spectra of Plexi'!B:B)","v":0.18466522678185748},{"$f":"'spectra of Plexi'!C18/MAX('spectra of Plexi'!C:C)","v":0.23021582733812951},{"$f":"'spectra of Plexi'!D18/MAX('spectra of Plexi'!D:D)","v":0.4550056242969629},{"$f":"'spectra of Plexi'!E18/MAX('spectra of Plexi'!E:E)","v":0.95165528113504982},{"$f":"'spectra of Plexi'!F18/MAX('spectra of Plexi'!F:F)","v":0.20709771511910552},{"$f":"'spectra of Plexi'!G18/MAX('spectra of Plexi'!G:G)","v":0.29487842731505431},{"$f":"'spectra of Plexi'!H18/MAX('spectra of Plexi'!H:H)","v":0.3359662980516061},{"$f":"'spectra of Plexi'!I18/MAX('spectra of Plexi'!I:I)","v":0.53825622775800708}]
[583,{"$f":"'spectra of Plexi'!B19/MAX('spectra of Plexi'!B:B)","v":0.13768898488120951},{"$f":"'spectra of Plexi'!C19/MAX('spectra of Plexi'!C:C)","v":0.17266187050359713},{"$f":"'spectra of Plexi'!D19/MAX('spectra of Plexi'!D:D)","v":0.37401574803149606},{"$f":"'spectra of Plexi'!E19/MAX('spectra of Plexi'!E:E)","v":0.8339464004203887},{"$f":"'spectra of Plexi'!F19/MAX('spectra of Plexi'!F:F)","v":0.15313563441905689},{"$f":"'spectra of Plexi'!G19/MAX('spectra of Plexi'!G:G)","v":0.22348680807035695},{"$f":"'spectra of Plexi'!H19/MAX('spectra of Plexi'!H:H)","v":0.26803580832016849},{"$f":"'spectra of Plexi'!I19/MAX('spectra of Plexi'!I:I)","v":0.41192170818505336}]
[592,{"$f":"'spectra of Plexi'!B20/MAX('spectra of Plexi'!B:B)","v":0.10421166306695466},{"$f":"'spectra of Plexi'!C20/MAX('spectra of Plexi'!C:C)","v":0.13226342003320421},{"$f":"'spectra of Plexi'!D20/MAX('spectra of Plexi'!D:D)","v":0.30483689538807651},{"$f":"'spectra of Plexi'!E20/MAX('spectra of Plexi'!E:E)","v":0.76878612716763006},{"$f":"'spectra of Plexi'!F20/MAX('spectra of Plexi'!F:F)","v":0.11327175498298495},{"$f":"'spectra of Plexi'!G20/MAX('spectra of Plexi'!G:G)","v":0.16916709777547853},{"$f":"'spectra of Plexi'!H20/MAX('spectra of Plexi'!H:H)","v":0.20589784096893102},{"$f":"'spectra of Plexi'!I20/MAX('spectra of Plexi'!I:I)","v":0.3322953736654804}]
[601,{"$f":"'spectra of Plexi'!B21/MAX('spectra of Plexi'!B:B)","v":8.0453563714902809E-2},{"$f":"'spectra of Plexi'!C21/MAX('spectra of Plexi'!C:C)","v":0.10348644161593802},{"$f":"'spectra of Plexi'!D21/MAX('spectra of Plexi'!D:D)","v":0.24915635545556802},{"$f":"'spectra of Plexi'!E21/MAX('spectra of Plexi'!E:E)","v":0.7162375197057278},{"$f":"'spectra of Plexi'!F21/MAX('spectra of Plexi'!F:F)","v":8.5075352455031603E-2},{"$f":"'spectra of Plexi'!G21/MAX('spectra of Plexi'!G:G)","v":0.12778065183652354},{"$f":"'spectra of Plexi'!H21/MAX('spectra of Plexi'!H:H)","v":0.15534491837809372},{"$f":"'spectra of Plexi'!I21/MAX('spectra of Plexi'!I:I)","v":0.26734875444839856}]
[610,{"$f":"'spectra of Plexi'!B22/MAX('spectra of Plexi'!B:B)","v":5.7235421166306699E-2},{"$f":"'spectra of Plexi'!C22/MAX('spectra of Plexi'!C:C)","v":7.581627006087438E-2},{"$f":"'spectra of Plexi'!D22/MAX('spectra of Plexi'!D:D)","v":0.19460067491563554},{"$f":"'spectra of Plexi'!E22/MAX('spectra of Plexi'!E:E)","v":0.63794009458749346},{"$f":"'spectra of Plexi'!F22/MAX('spectra of Plexi'!F:F)","v":6.174039863879436E-2},{"$f":"'spectra of Plexi'!G22/MAX('spectra of Plexi'!G:G)","v":9.4671495085359547E-2},{"$f":"'spectra of Plexi'!H22/MAX('spectra of Plexi'!H:H)","v":0.11163770405476565},{"$f":"'spectra of Plexi'!I22/MAX('spectra of Plexi'!I:I)","v":0.20284697508896796}]
[619,{"$f":"'spectra of Plexi'!B23/MAX('spectra of Plexi'!B:B)","v":4.0496760259179268E-2},{"$f":"'spectra of Plexi'!C23/MAX('spectra of Plexi'!C:C)","v":5.3126729385722195E-2},{"$f":"'spectra of Plexi'!D23/MAX('spectra of Plexi'!D:D)","v":0.14848143982002249},{"$f":"'spectra of Plexi'!E23/MAX('spectra of Plexi'!E:E)","v":0.51812926957435623},{"$f":"'spectra of Plexi'!F23/MAX('spectra of Plexi'!F:F)","v":4.3266893534273217E-2},{"$f":"'spectra of Plexi'!G23/MAX('spectra of Plexi'!G:G)","v":6.7252974650801864E-2},{"$f":"'spectra of Plexi'!H23/MAX('spectra of Plexi'!H:H)","v":8.0568720379146919E-2},{"$f":"'spectra of Plexi'!I23/MAX('spectra of Plexi'!I:I)","v":0.14412811387900354}]
[628,{"$f":"'spectra of Plexi'!B24/MAX('spectra of Plexi'!B:B)","v":2.75377969762419E-2},{"$f":"'spectra of Plexi'!C24/MAX('spectra of Plexi'!C:C)","v":3.7631433314886553E-2},{"$f":"'spectra of Plexi'!D24/MAX('spectra of Plexi'!D:D)","v":0.11248593925759279},{"$f":"'spectra of Plexi'!E24/MAX('spectra of Plexi'!E:E)","v":0.40882816605359956},{"$f":"'spectra of Plexi'!F24/MAX('spectra of Plexi'!F:F)","v":3.0627126883811376E-2},{"$f":"'spectra of Plexi'!G24/MAX('spectra of Plexi'!G:G)","v":4.8629073978272118E-2},{"$f":"'spectra of Plexi'!H24/MAX('spectra of Plexi'!H:H)","v":5.897840968931016E-2},{"$f":"'spectra of Plexi'!I24/MAX('spectra of Plexi'!I:I)","v":0.10364768683274021}]
[637,{"$f":"'spectra of Plexi'!B25/MAX('spectra of Plexi'!B:B)","v":1.9978401727861774E-2},{"$f":"'spectra of Plexi'!C25/MAX('spectra of Plexi'!C:C)","v":2.7670171555063645E-2},{"$f":"'spectra of Plexi'!D25/MAX('spectra of Plexi'!D:D)","v":8.548931383577052E-2},{"$f":"'spectra of Plexi'!E25/MAX('spectra of Plexi'!E:E)","v":0.31897004729374673},{"$f":"'spectra of Plexi'!F25/MAX('spectra of Plexi'!F:F)","v":2.2848808945065632E-2},{"$f":"'spectra of Plexi'!G25/MAX('spectra of Plexi'!G:G)","v":3.6213140196585614E-2},{"$f":"'spectra of Plexi'!H25/MAX('spectra of Plexi'!H:H)","v":4.4760400210637173E-2},{"$f":"'spectra of Plexi'!I25/MAX('spectra of Plexi'!I:I)","v":7.6067615658362994E-2}]
[646,{"$f":"'spectra of Plexi'!B26/MAX('spectra of Plexi'!B:B)","v":1.2958963282937365E-2},{"$f":"'spectra of Plexi'!C26/MAX('spectra of Plexi'!C:C)","v":1.7708909795240733E-2},{"$f":"'spectra of Plexi'!D26/MAX('spectra of Plexi'!D:D)","v":6.1867266591676039E-2},{"$f":"'spectra of Plexi'!E26/MAX('spectra of Plexi'!E:E)","v":0.24067262217551233},{"$f":"'spectra of Plexi'!F26/MAX('spectra of Plexi'!F:F)","v":1.4098201263976665E-2},{"$f":"'spectra of Plexi'!G26/MAX('spectra of Plexi'!G:G)","v":2.3279875840662181E-2},{"$f":"'spectra of Plexi'!H26/MAX('spectra of Plexi'!H:H)","v":3.0015797788309637E-2},{"$f":"'spectra of Plexi'!I26/MAX('spectra of Plexi'!I:I)","v":5.2935943060498217E-2}]
[654,{"$f":"'spectra of Plexi'!B27/MAX('spectra of Plexi'!B:B)","v":8.6393088552915772E-3},{"$f":"'spectra of Plexi'!C27/MAX('spectra of Plexi'!C:C)","v":1.2174875484228003E-2},{"$f":"'spectra of Plexi'!D27/MAX('spectra of Plexi'!D:D)","v":4.6681664791901015E-2},{"$f":"'spectra of Plexi'!E27/MAX('spectra of Plexi'!E:E)","v":0.19127693116132422},{"$f":"'spectra of Plexi'!F27/MAX('spectra of Plexi'!F:F)","v":9.2367525522605732E-3},{"$f":"'spectra of Plexi'!G27/MAX('spectra of Plexi'!G:G)","v":1.5519917227108122E-2},{"$f":"'spectra of Plexi'!H27/MAX('spectra of Plexi'!H:H)","v":2.0537124802527645E-2},{"$f":"'spectra of Plexi'!I27/MAX('spectra of Plexi'!I:I)","v":3.8256227758007112E-2}]
[663,{"$f":"'spectra of Plexi'!B28/MAX('spectra of Plexi'!B:B)","v":6.4794816414686825E-3},{"$f":"'spectra of Plexi'!C28/MAX('spectra of Plexi'!C:C)","v":9.4078583287216383E-3},{"$f":"'spectra of Plexi'!D28/MAX('spectra of Plexi'!D:D)","v":3.7120359955005622E-2},{"$f":"'spectra of Plexi'!E28/MAX('spectra of Plexi'!E:E)","v":0.15974776668418286},{"$f":"'spectra of Plexi'!F28/MAX('spectra of Plexi'!F:F)","v":7.2921730675741371E-3},{"$f":"'spectra of Plexi'!G28/MAX('spectra of Plexi'!G:G)","v":1.1898603207449558E-2},{"$f":"'spectra of Plexi'!H28/MAX('spectra of Plexi'!H:H)","v":1.5271195365982095E-2},{"$f":"'spectra of Plexi'!I28/MAX('spectra of Plexi'!I:I)","v":2.980427046263345E-2}]
[672,{"$f":"'spectra of Plexi'!B29/MAX('spectra of Plexi'!B:B)","v":4.3196544276457886E-3},{"$f":"'spectra of Plexi'!C29/MAX('spectra of Plexi'!C:C)","v":6.0874377421140016E-3},{"$f":"'spectra of Plexi'!D29/MAX('spectra of Plexi'!D:D)","v":2.6996625421822268E-2},{"$f":"'spectra of Plexi'!E29/MAX('spectra of Plexi'!E:E)","v":0.12769311613242249},{"$f":"'spectra of Plexi'!F29/MAX('spectra of Plexi'!F:F)","v":4.3753038405444826E-3},{"$f":"'spectra of Plexi'!G29/MAX('spectra of Plexi'!G:G)","v":6.725297465080186E-3},{"$f":"'spectra of Plexi'!H29/MAX('spectra of Plexi'!H:H)","v":8.9520800421274346E-3},{"$f":"'spectra of Plexi'!I29/MAX('spectra of Plexi'!I:I)","v":2.0462633451957292E-2}]
[681,{"$f":"'spectra of Plexi'!B30/MAX('spectra of Plexi'!B:B)","v":3.2397408207343412E-3},{"$f":"'spectra of Plexi'!C30/MAX('spectra of Plexi'!C:C)","v":4.4272274488101832E-3},{"$f":"'spectra of Plexi'!D30/MAX('spectra of Plexi'!D:D)","v":1.968503937007874E-2},{"$f":"'spectra of Plexi'!E30/MAX('spectra of Plexi'!E:E)","v":9.7740409879138207E-2},{"$f":"'spectra of Plexi'!F30/MAX('spectra of Plexi'!F:F)","v":3.4030140982012637E-3},{"$f":"'spectra of Plexi'!G30/MAX('spectra of Plexi'!G:G)","v":5.1733057423693739E-3},{"$f":"'spectra of Plexi'!H30/MAX('spectra of Plexi'!H:H)","v":6.3191153238546603E-3},{"$f":"'spectra of Plexi'!I30/MAX('spectra of Plexi'!I:I)","v":1.4679715302491101E-2}]
[690,{"$f":"'spectra of Plexi'!B31/MAX('spectra of Plexi'!B:B)","v":2.1598272138228943E-3},{"$f":"'spectra of Plexi'!C31/MAX('spectra of Plexi'!C:C)","v":2.7670171555063644E-3},{"$f":"'spectra of Plexi'!D31/MAX('spectra of Plexi'!D:D)","v":1.2935883014623169E-2},{"$f":"'spectra of Plexi'!E31/MAX('spectra of Plexi'!E:E)","v":6.5160273252758805E-2},{"$f":"'spectra of Plexi'!F31/MAX('spectra of Plexi'!F:F)","v":1.9445794846864367E-3},{"$f":"'spectra of Plexi'!G31/MAX('spectra of Plexi'!G:G)","v":3.1039834454216243E-3},{"$f":"'spectra of Plexi'!H31/MAX('spectra of Plexi'!H:H)","v":4.2127435492364407E-3},{"$f":"'spectra of Plexi'!I31/MAX('spectra of Plexi'!I:I)","v":8.8967971530249101E-3}]